BEGIN:VCALENDAR
VERSION:2.0
PRODID:-// - ECPv6.15.20//NONSGML v1.0//EN
CALSCALE:GREGORIAN
METHOD:PUBLISH
X-ORIGINAL-URL:https://wilmingtonwellness.net
X-WR-CALDESC:Events for 
REFRESH-INTERVAL;VALUE=DURATION:PT1H
X-Robots-Tag:noindex
X-PUBLISHED-TTL:PT1H
BEGIN:VTIMEZONE
TZID:UTC
BEGIN:STANDARD
TZOFFSETFROM:+0000
TZOFFSETTO:+0000
TZNAME:UTC
DTSTART:20210101T000000
END:STANDARD
END:VTIMEZONE
BEGIN:VEVENT
DTSTART;TZID=UTC:20221208T110000
DTEND;TZID=UTC:20221208T130000
DTSTAMP:20260423T184837
CREATED:20221208T180131Z
LAST-MODIFIED:20221215T013800Z
UID:2827-1670497200-1670504400@wilmingtonwellness.net
SUMMARY:Open Studio
DESCRIPTION:Student showcase
URL:https://wilmingtonwellness.net/event/open-studio/
LOCATION:UNCW\, 601 South College Rd\, Wilmington\, NC\, 28403
ATTACH;FMTTYPE=image/jpeg:https://wilmingtonwellness.net/wp-content/uploads/2022/12/brooke-cagle-uHVRvDr7pg-unsplash-scaled.jpg
END:VEVENT
END:VCALENDAR