BEGIN:VCALENDAR
VERSION:2.0
PRODID:-// - ECPv6.15.20//NONSGML v1.0//EN
CALSCALE:GREGORIAN
METHOD:PUBLISH
X-ORIGINAL-URL:https://wilmingtonwellness.net
X-WR-CALDESC:Events for 
REFRESH-INTERVAL;VALUE=DURATION:PT1H
X-Robots-Tag:noindex
X-PUBLISHED-TTL:PT1H
BEGIN:VTIMEZONE
TZID:UTC
BEGIN:STANDARD
TZOFFSETFROM:+0000
TZOFFSETTO:+0000
TZNAME:UTC
DTSTART:20210101T000000
END:STANDARD
END:VTIMEZONE
BEGIN:VEVENT
DTSTART;TZID=UTC:20221216T190000
DTEND;TZID=UTC:20221216T210000
DTSTAMP:20260423T232912
CREATED:20221124T023015Z
LAST-MODIFIED:20221215T012843Z
UID:1380-1671217200-1671224400@wilmingtonwellness.net
SUMMARY:Web Development Meetup
DESCRIPTION:Meetup 7 pm at Mellow Mushroom on thursdays
URL:https://wilmingtonwellness.net/event/web-dev-meetup/
LOCATION:Mellow Mushroom\, 208 N. Water St\, Wilmington\, 28401\, Select a Country:
CATEGORIES:Web Development
ATTACH;FMTTYPE=image/jpeg:https://wilmingtonwellness.net/wp-content/uploads/youzify/members/2/2022/11/kylie-lugo-t0BavJY0M-U-unsplash-scaled.jpg
END:VEVENT
BEGIN:VEVENT
DTSTART;TZID=UTC:20221212T060000
DTEND;TZID=UTC:20221212T070000
DTSTAMP:20260423T232912
CREATED:20221128T193149Z
LAST-MODIFIED:20221215T013640Z
UID:2739-1670824800-1670828400@wilmingtonwellness.net
SUMMARY:Morning Surf
DESCRIPTION:Come to wrightsville beach before work to surf!
URL:https://wilmingtonwellness.net/event/morning-surf/
LOCATION:Wrightsville Beach\, Wilmington\, NC\, 28403\, United States
CATEGORIES:Surf Club
ATTACH;FMTTYPE=image/jpeg:https://wilmingtonwellness.net/wp-content/uploads/2022/11/lacie-slezak-7yqyQQXgOT8-unsplash-1-scaled.jpg
END:VEVENT
BEGIN:VEVENT
DTSTART;TZID=UTC:20221223T080000
DTEND;TZID=UTC:20221223T170000
DTSTAMP:20260423T232912
CREATED:20221128T191552Z
LAST-MODIFIED:20221215T012708Z
UID:2732-1671782400-1671814800@wilmingtonwellness.net
SUMMARY:Young Adults Bowling
DESCRIPTION:Bowling Friday @ 7:30!
URL:https://wilmingtonwellness.net/event/young-adults-bowling/
LOCATION:Cardinal Lanes
CATEGORIES:Young Adults
ATTACH;FMTTYPE=image/jpeg:https://wilmingtonwellness.net/wp-content/uploads/2022/11/brittani-burns-MdN5h3QCiTw-unsplash-scaled-e1671067612595.jpg
END:VEVENT
BEGIN:VEVENT
DTSTART;TZID=UTC:20221212T060000
DTEND;TZID=UTC:20221212T070000
DTSTAMP:20260423T232912
CREATED:20221128T193149Z
LAST-MODIFIED:20221215T013640Z
UID:2739-1670824800-1670828400@wilmingtonwellness.net
SUMMARY:Morning Surf
DESCRIPTION:Come to wrightsville beach before work to surf!
URL:https://wilmingtonwellness.net/event/morning-surf/
LOCATION:Wrightsville Beach\, Wilmington\, NC\, 28403\, United States
CATEGORIES:Surf Club
ATTACH;FMTTYPE=image/jpeg:https://wilmingtonwellness.net/wp-content/uploads/2022/11/lacie-slezak-7yqyQQXgOT8-unsplash-1-scaled.jpg
END:VEVENT
BEGIN:VEVENT
DTSTART;TZID=UTC:20221230T190000
DTEND;TZID=UTC:20221230T220000
DTSTAMP:20260423T232912
CREATED:20221013T021217Z
LAST-MODIFIED:20221214T222148Z
UID:247-1672426800-1672437600@wilmingtonwellness.net
SUMMARY:Bonfire at Wrightsville Beach
DESCRIPTION:Bonfire at Wrightsville Beach this Friday after sunset
URL:https://wilmingtonwellness.net/event/bonfire-at-wrightsville-beach/
LOCATION:Wrightsville Beach\, Wilmington\, NC\, 28403\, United States
CATEGORIES:Young Adults
ATTACH;FMTTYPE=image/jpeg:https://wilmingtonwellness.net/wp-content/uploads/2022/10/priscilla-du-preez-nF8xhLMmg0c-unsplash-scaled-e1665626079588.jpg
END:VEVENT
BEGIN:VEVENT
DTSTART;TZID=UTC:20221212T060000
DTEND;TZID=UTC:20221212T070000
DTSTAMP:20260423T232912
CREATED:20221128T193149Z
LAST-MODIFIED:20221215T013640Z
UID:2739-1670824800-1670828400@wilmingtonwellness.net
SUMMARY:Morning Surf
DESCRIPTION:Come to wrightsville beach before work to surf!
URL:https://wilmingtonwellness.net/event/morning-surf/
LOCATION:Wrightsville Beach\, Wilmington\, NC\, 28403\, United States
CATEGORIES:Surf Club
ATTACH;FMTTYPE=image/jpeg:https://wilmingtonwellness.net/wp-content/uploads/2022/11/lacie-slezak-7yqyQQXgOT8-unsplash-1-scaled.jpg
END:VEVENT
BEGIN:VEVENT
DTSTART;TZID=UTC:20221212T060000
DTEND;TZID=UTC:20221212T070000
DTSTAMP:20260423T232912
CREATED:20221128T193149Z
LAST-MODIFIED:20221215T013640Z
UID:2739-1670824800-1670828400@wilmingtonwellness.net
SUMMARY:Morning Surf
DESCRIPTION:Come to wrightsville beach before work to surf!
URL:https://wilmingtonwellness.net/event/morning-surf/
LOCATION:Wrightsville Beach\, Wilmington\, NC\, 28403\, United States
CATEGORIES:Surf Club
ATTACH;FMTTYPE=image/jpeg:https://wilmingtonwellness.net/wp-content/uploads/2022/11/lacie-slezak-7yqyQQXgOT8-unsplash-1-scaled.jpg
END:VEVENT
BEGIN:VEVENT
DTSTART;TZID=UTC:20221212T060000
DTEND;TZID=UTC:20221212T070000
DTSTAMP:20260423T232912
CREATED:20221128T193149Z
LAST-MODIFIED:20221215T013640Z
UID:2739-1670824800-1670828400@wilmingtonwellness.net
SUMMARY:Morning Surf
DESCRIPTION:Come to wrightsville beach before work to surf!
URL:https://wilmingtonwellness.net/event/morning-surf/
LOCATION:Wrightsville Beach\, Wilmington\, NC\, 28403\, United States
CATEGORIES:Surf Club
ATTACH;FMTTYPE=image/jpeg:https://wilmingtonwellness.net/wp-content/uploads/2022/11/lacie-slezak-7yqyQQXgOT8-unsplash-1-scaled.jpg
END:VEVENT
BEGIN:VEVENT
DTSTART;TZID=UTC:20221212T060000
DTEND;TZID=UTC:20221212T070000
DTSTAMP:20260423T232912
CREATED:20221128T193149Z
LAST-MODIFIED:20221215T013640Z
UID:2739-1670824800-1670828400@wilmingtonwellness.net
SUMMARY:Morning Surf
DESCRIPTION:Come to wrightsville beach before work to surf!
URL:https://wilmingtonwellness.net/event/morning-surf/
LOCATION:Wrightsville Beach\, Wilmington\, NC\, 28403\, United States
CATEGORIES:Surf Club
ATTACH;FMTTYPE=image/jpeg:https://wilmingtonwellness.net/wp-content/uploads/2022/11/lacie-slezak-7yqyQQXgOT8-unsplash-1-scaled.jpg
END:VEVENT
BEGIN:VEVENT
DTSTART;TZID=UTC:20221212T060000
DTEND;TZID=UTC:20221212T070000
DTSTAMP:20260423T232912
CREATED:20221128T193149Z
LAST-MODIFIED:20221215T013640Z
UID:2739-1670824800-1670828400@wilmingtonwellness.net
SUMMARY:Morning Surf
DESCRIPTION:Come to wrightsville beach before work to surf!
URL:https://wilmingtonwellness.net/event/morning-surf/
LOCATION:Wrightsville Beach\, Wilmington\, NC\, 28403\, United States
CATEGORIES:Surf Club
ATTACH;FMTTYPE=image/jpeg:https://wilmingtonwellness.net/wp-content/uploads/2022/11/lacie-slezak-7yqyQQXgOT8-unsplash-1-scaled.jpg
END:VEVENT
BEGIN:VEVENT
DTSTART;TZID=UTC:20221212T060000
DTEND;TZID=UTC:20221212T070000
DTSTAMP:20260423T232912
CREATED:20221128T193149Z
LAST-MODIFIED:20221215T013640Z
UID:2739-1670824800-1670828400@wilmingtonwellness.net
SUMMARY:Morning Surf
DESCRIPTION:Come to wrightsville beach before work to surf!
URL:https://wilmingtonwellness.net/event/morning-surf/
LOCATION:Wrightsville Beach\, Wilmington\, NC\, 28403\, United States
CATEGORIES:Surf Club
ATTACH;FMTTYPE=image/jpeg:https://wilmingtonwellness.net/wp-content/uploads/2022/11/lacie-slezak-7yqyQQXgOT8-unsplash-1-scaled.jpg
END:VEVENT
BEGIN:VEVENT
DTSTART;TZID=UTC:20221212T060000
DTEND;TZID=UTC:20221212T070000
DTSTAMP:20260423T232912
CREATED:20221128T193149Z
LAST-MODIFIED:20221215T013640Z
UID:2739-1670824800-1670828400@wilmingtonwellness.net
SUMMARY:Morning Surf
DESCRIPTION:Come to wrightsville beach before work to surf!
URL:https://wilmingtonwellness.net/event/morning-surf/
LOCATION:Wrightsville Beach\, Wilmington\, NC\, 28403\, United States
CATEGORIES:Surf Club
ATTACH;FMTTYPE=image/jpeg:https://wilmingtonwellness.net/wp-content/uploads/2022/11/lacie-slezak-7yqyQQXgOT8-unsplash-1-scaled.jpg
END:VEVENT
BEGIN:VEVENT
DTSTART;TZID=UTC:20221212T060000
DTEND;TZID=UTC:20221212T070000
DTSTAMP:20260423T232912
CREATED:20221128T193149Z
LAST-MODIFIED:20221215T013640Z
UID:2739-1670824800-1670828400@wilmingtonwellness.net
SUMMARY:Morning Surf
DESCRIPTION:Come to wrightsville beach before work to surf!
URL:https://wilmingtonwellness.net/event/morning-surf/
LOCATION:Wrightsville Beach\, Wilmington\, NC\, 28403\, United States
CATEGORIES:Surf Club
ATTACH;FMTTYPE=image/jpeg:https://wilmingtonwellness.net/wp-content/uploads/2022/11/lacie-slezak-7yqyQQXgOT8-unsplash-1-scaled.jpg
END:VEVENT
BEGIN:VEVENT
DTSTART;TZID=UTC:20221212T060000
DTEND;TZID=UTC:20221212T070000
DTSTAMP:20260423T232912
CREATED:20221128T193149Z
LAST-MODIFIED:20221215T013640Z
UID:2739-1670824800-1670828400@wilmingtonwellness.net
SUMMARY:Morning Surf
DESCRIPTION:Come to wrightsville beach before work to surf!
URL:https://wilmingtonwellness.net/event/morning-surf/
LOCATION:Wrightsville Beach\, Wilmington\, NC\, 28403\, United States
CATEGORIES:Surf Club
ATTACH;FMTTYPE=image/jpeg:https://wilmingtonwellness.net/wp-content/uploads/2022/11/lacie-slezak-7yqyQQXgOT8-unsplash-1-scaled.jpg
END:VEVENT
BEGIN:VEVENT
DTSTART;TZID=UTC:20221212T060000
DTEND;TZID=UTC:20221212T070000
DTSTAMP:20260423T232912
CREATED:20221128T193149Z
LAST-MODIFIED:20221215T013640Z
UID:2739-1670824800-1670828400@wilmingtonwellness.net
SUMMARY:Morning Surf
DESCRIPTION:Come to wrightsville beach before work to surf!
URL:https://wilmingtonwellness.net/event/morning-surf/
LOCATION:Wrightsville Beach\, Wilmington\, NC\, 28403\, United States
CATEGORIES:Surf Club
ATTACH;FMTTYPE=image/jpeg:https://wilmingtonwellness.net/wp-content/uploads/2022/11/lacie-slezak-7yqyQQXgOT8-unsplash-1-scaled.jpg
END:VEVENT
BEGIN:VEVENT
DTSTART;TZID=UTC:20221212T060000
DTEND;TZID=UTC:20221212T070000
DTSTAMP:20260423T232912
CREATED:20221128T193149Z
LAST-MODIFIED:20221215T013640Z
UID:2739-1670824800-1670828400@wilmingtonwellness.net
SUMMARY:Morning Surf
DESCRIPTION:Come to wrightsville beach before work to surf!
URL:https://wilmingtonwellness.net/event/morning-surf/
LOCATION:Wrightsville Beach\, Wilmington\, NC\, 28403\, United States
CATEGORIES:Surf Club
ATTACH;FMTTYPE=image/jpeg:https://wilmingtonwellness.net/wp-content/uploads/2022/11/lacie-slezak-7yqyQQXgOT8-unsplash-1-scaled.jpg
END:VEVENT
BEGIN:VEVENT
DTSTART;TZID=UTC:20221212T060000
DTEND;TZID=UTC:20221212T070000
DTSTAMP:20260423T232912
CREATED:20221128T193149Z
LAST-MODIFIED:20221215T013640Z
UID:2739-1670824800-1670828400@wilmingtonwellness.net
SUMMARY:Morning Surf
DESCRIPTION:Come to wrightsville beach before work to surf!
URL:https://wilmingtonwellness.net/event/morning-surf/
LOCATION:Wrightsville Beach\, Wilmington\, NC\, 28403\, United States
CATEGORIES:Surf Club
ATTACH;FMTTYPE=image/jpeg:https://wilmingtonwellness.net/wp-content/uploads/2022/11/lacie-slezak-7yqyQQXgOT8-unsplash-1-scaled.jpg
END:VEVENT
BEGIN:VEVENT
DTSTART;TZID=UTC:20221212T060000
DTEND;TZID=UTC:20221212T070000
DTSTAMP:20260423T232912
CREATED:20221128T193149Z
LAST-MODIFIED:20221215T013640Z
UID:2739-1670824800-1670828400@wilmingtonwellness.net
SUMMARY:Morning Surf
DESCRIPTION:Come to wrightsville beach before work to surf!
URL:https://wilmingtonwellness.net/event/morning-surf/
LOCATION:Wrightsville Beach\, Wilmington\, NC\, 28403\, United States
CATEGORIES:Surf Club
ATTACH;FMTTYPE=image/jpeg:https://wilmingtonwellness.net/wp-content/uploads/2022/11/lacie-slezak-7yqyQQXgOT8-unsplash-1-scaled.jpg
END:VEVENT
BEGIN:VEVENT
DTSTART;TZID=UTC:20221212T060000
DTEND;TZID=UTC:20221212T070000
DTSTAMP:20260423T232912
CREATED:20221128T193149Z
LAST-MODIFIED:20221215T013640Z
UID:2739-1670824800-1670828400@wilmingtonwellness.net
SUMMARY:Morning Surf
DESCRIPTION:Come to wrightsville beach before work to surf!
URL:https://wilmingtonwellness.net/event/morning-surf/
LOCATION:Wrightsville Beach\, Wilmington\, NC\, 28403\, United States
CATEGORIES:Surf Club
ATTACH;FMTTYPE=image/jpeg:https://wilmingtonwellness.net/wp-content/uploads/2022/11/lacie-slezak-7yqyQQXgOT8-unsplash-1-scaled.jpg
END:VEVENT
BEGIN:VEVENT
DTSTART;TZID=UTC:20221212T060000
DTEND;TZID=UTC:20221212T070000
DTSTAMP:20260423T232912
CREATED:20221128T193149Z
LAST-MODIFIED:20221215T013640Z
UID:2739-1670824800-1670828400@wilmingtonwellness.net
SUMMARY:Morning Surf
DESCRIPTION:Come to wrightsville beach before work to surf!
URL:https://wilmingtonwellness.net/event/morning-surf/
LOCATION:Wrightsville Beach\, Wilmington\, NC\, 28403\, United States
CATEGORIES:Surf Club
ATTACH;FMTTYPE=image/jpeg:https://wilmingtonwellness.net/wp-content/uploads/2022/11/lacie-slezak-7yqyQQXgOT8-unsplash-1-scaled.jpg
END:VEVENT
BEGIN:VEVENT
DTSTART;TZID=UTC:20221212T060000
DTEND;TZID=UTC:20221212T070000
DTSTAMP:20260423T232912
CREATED:20221128T193149Z
LAST-MODIFIED:20221215T013640Z
UID:2739-1670824800-1670828400@wilmingtonwellness.net
SUMMARY:Morning Surf
DESCRIPTION:Come to wrightsville beach before work to surf!
URL:https://wilmingtonwellness.net/event/morning-surf/
LOCATION:Wrightsville Beach\, Wilmington\, NC\, 28403\, United States
CATEGORIES:Surf Club
ATTACH;FMTTYPE=image/jpeg:https://wilmingtonwellness.net/wp-content/uploads/2022/11/lacie-slezak-7yqyQQXgOT8-unsplash-1-scaled.jpg
END:VEVENT
BEGIN:VEVENT
DTSTART;TZID=UTC:20221212T060000
DTEND;TZID=UTC:20221212T070000
DTSTAMP:20260423T232912
CREATED:20221128T193149Z
LAST-MODIFIED:20221215T013640Z
UID:2739-1670824800-1670828400@wilmingtonwellness.net
SUMMARY:Morning Surf
DESCRIPTION:Come to wrightsville beach before work to surf!
URL:https://wilmingtonwellness.net/event/morning-surf/
LOCATION:Wrightsville Beach\, Wilmington\, NC\, 28403\, United States
CATEGORIES:Surf Club
ATTACH;FMTTYPE=image/jpeg:https://wilmingtonwellness.net/wp-content/uploads/2022/11/lacie-slezak-7yqyQQXgOT8-unsplash-1-scaled.jpg
END:VEVENT
BEGIN:VEVENT
DTSTART;TZID=UTC:20221212T060000
DTEND;TZID=UTC:20221212T070000
DTSTAMP:20260423T232912
CREATED:20221128T193149Z
LAST-MODIFIED:20221215T013640Z
UID:2739-1670824800-1670828400@wilmingtonwellness.net
SUMMARY:Morning Surf
DESCRIPTION:Come to wrightsville beach before work to surf!
URL:https://wilmingtonwellness.net/event/morning-surf/
LOCATION:Wrightsville Beach\, Wilmington\, NC\, 28403\, United States
CATEGORIES:Surf Club
ATTACH;FMTTYPE=image/jpeg:https://wilmingtonwellness.net/wp-content/uploads/2022/11/lacie-slezak-7yqyQQXgOT8-unsplash-1-scaled.jpg
END:VEVENT
BEGIN:VEVENT
DTSTART;TZID=UTC:20221212T060000
DTEND;TZID=UTC:20221212T070000
DTSTAMP:20260423T232912
CREATED:20221128T193149Z
LAST-MODIFIED:20221215T013640Z
UID:2739-1670824800-1670828400@wilmingtonwellness.net
SUMMARY:Morning Surf
DESCRIPTION:Come to wrightsville beach before work to surf!
URL:https://wilmingtonwellness.net/event/morning-surf/
LOCATION:Wrightsville Beach\, Wilmington\, NC\, 28403\, United States
CATEGORIES:Surf Club
ATTACH;FMTTYPE=image/jpeg:https://wilmingtonwellness.net/wp-content/uploads/2022/11/lacie-slezak-7yqyQQXgOT8-unsplash-1-scaled.jpg
END:VEVENT
BEGIN:VEVENT
DTSTART;TZID=UTC:20221212T060000
DTEND;TZID=UTC:20221212T070000
DTSTAMP:20260423T232912
CREATED:20221128T193149Z
LAST-MODIFIED:20221215T013640Z
UID:2739-1670824800-1670828400@wilmingtonwellness.net
SUMMARY:Morning Surf
DESCRIPTION:Come to wrightsville beach before work to surf!
URL:https://wilmingtonwellness.net/event/morning-surf/
LOCATION:Wrightsville Beach\, Wilmington\, NC\, 28403\, United States
CATEGORIES:Surf Club
ATTACH;FMTTYPE=image/jpeg:https://wilmingtonwellness.net/wp-content/uploads/2022/11/lacie-slezak-7yqyQQXgOT8-unsplash-1-scaled.jpg
END:VEVENT
BEGIN:VEVENT
DTSTART;TZID=UTC:20221212T060000
DTEND;TZID=UTC:20221212T070000
DTSTAMP:20260423T232912
CREATED:20221128T193149Z
LAST-MODIFIED:20221215T013640Z
UID:2739-1670824800-1670828400@wilmingtonwellness.net
SUMMARY:Morning Surf
DESCRIPTION:Come to wrightsville beach before work to surf!
URL:https://wilmingtonwellness.net/event/morning-surf/
LOCATION:Wrightsville Beach\, Wilmington\, NC\, 28403\, United States
CATEGORIES:Surf Club
ATTACH;FMTTYPE=image/jpeg:https://wilmingtonwellness.net/wp-content/uploads/2022/11/lacie-slezak-7yqyQQXgOT8-unsplash-1-scaled.jpg
END:VEVENT
BEGIN:VEVENT
DTSTART;TZID=UTC:20221212T060000
DTEND;TZID=UTC:20221212T070000
DTSTAMP:20260423T232912
CREATED:20221128T193149Z
LAST-MODIFIED:20221215T013640Z
UID:2739-1670824800-1670828400@wilmingtonwellness.net
SUMMARY:Morning Surf
DESCRIPTION:Come to wrightsville beach before work to surf!
URL:https://wilmingtonwellness.net/event/morning-surf/
LOCATION:Wrightsville Beach\, Wilmington\, NC\, 28403\, United States
CATEGORIES:Surf Club
ATTACH;FMTTYPE=image/jpeg:https://wilmingtonwellness.net/wp-content/uploads/2022/11/lacie-slezak-7yqyQQXgOT8-unsplash-1-scaled.jpg
END:VEVENT
BEGIN:VEVENT
DTSTART;TZID=UTC:20221212T060000
DTEND;TZID=UTC:20221212T070000
DTSTAMP:20260423T232912
CREATED:20221128T193149Z
LAST-MODIFIED:20221215T013640Z
UID:2739-1670824800-1670828400@wilmingtonwellness.net
SUMMARY:Morning Surf
DESCRIPTION:Come to wrightsville beach before work to surf!
URL:https://wilmingtonwellness.net/event/morning-surf/
LOCATION:Wrightsville Beach\, Wilmington\, NC\, 28403\, United States
CATEGORIES:Surf Club
ATTACH;FMTTYPE=image/jpeg:https://wilmingtonwellness.net/wp-content/uploads/2022/11/lacie-slezak-7yqyQQXgOT8-unsplash-1-scaled.jpg
END:VEVENT
BEGIN:VEVENT
DTSTART;TZID=UTC:20221212T060000
DTEND;TZID=UTC:20221212T070000
DTSTAMP:20260423T232912
CREATED:20221128T193149Z
LAST-MODIFIED:20221215T013640Z
UID:2739-1670824800-1670828400@wilmingtonwellness.net
SUMMARY:Morning Surf
DESCRIPTION:Come to wrightsville beach before work to surf!
URL:https://wilmingtonwellness.net/event/morning-surf/
LOCATION:Wrightsville Beach\, Wilmington\, NC\, 28403\, United States
CATEGORIES:Surf Club
ATTACH;FMTTYPE=image/jpeg:https://wilmingtonwellness.net/wp-content/uploads/2022/11/lacie-slezak-7yqyQQXgOT8-unsplash-1-scaled.jpg
END:VEVENT
BEGIN:VEVENT
DTSTART;TZID=UTC:20221212T060000
DTEND;TZID=UTC:20221212T070000
DTSTAMP:20260423T232912
CREATED:20221128T193149Z
LAST-MODIFIED:20221215T013640Z
UID:2739-1670824800-1670828400@wilmingtonwellness.net
SUMMARY:Morning Surf
DESCRIPTION:Come to wrightsville beach before work to surf!
URL:https://wilmingtonwellness.net/event/morning-surf/
LOCATION:Wrightsville Beach\, Wilmington\, NC\, 28403\, United States
CATEGORIES:Surf Club
ATTACH;FMTTYPE=image/jpeg:https://wilmingtonwellness.net/wp-content/uploads/2022/11/lacie-slezak-7yqyQQXgOT8-unsplash-1-scaled.jpg
END:VEVENT
END:VCALENDAR